Workbook

Sheet חישוב דירה invest-il
A1: פרטי העסקה | E1: סיכום העסקה קניה והשכרה | I1: נתוני החוק
A2: מחיר הדירה | B2: 1000000 | E2: מחיר הנכס | F2: =B2 -> 1000000 | G2: אחוז ממחיר הנכס | I2: תקופת פטור מס שבח בחודשים (במקרה של דירה יחידה) | J2: 18
E3: משכנתא | F3: =B6 -> 750000 | G3: =F3/$F$2 -> 0.75 | I3: מס שבח באחוזים | J3: 0.25
A4: דירה יחידה | B4: כן | E4: הון עצמי | F4: =B5 -> 250000 | G4: =F4/$F$2 -> 0.25 | I4: מדרגות מס רכישה דירה שניה
A5: הון עצמי | B5: 250000 | E5: הוצאות נלוות רכישה | F5: =SUM(B11:B16,B17:B20) -> 58126 | G5: =F5/$F$2 -> 0.058126 | I5: על חלק השווי שעד 6,055,070 ש"ח – 8% | J5: 0.08 | K5: 6055070 | L5: =K5*J5 -> 484405.6
A6: משכנתא | B6: =B2-B5 -> 750000 | E6: הוצאות שיפוץ | F6: =SUM(B23:B40) -> 28201.1 | G6: =F6/$F$2 -> 0.0282011 | I6: על חלק השווי העולה על 6,055,070 ש"ח – 10% | J6: 0.1 | K6: -
A7: ריבית משכנתא ממוצעת | B7: 0.058 | E7: הכנסה שנתית שכירות | F7: =12*B42 -> 0 | G7: =F7/$F$2 -> 0 | I7: מס לתשלום לדירה שניה | J7: =IF(B2>K5,L5+((B2-K5)*J6),B2*J5) -> 80000
A8: תקופת המשכנתא בחודשים | B8: 300 | E8: הוצאות ניהול ההשכרה | F8: =SUM(B43:B46)*12 -> 0 | G8: =F8/$F$2 -> 0 | I8: מדרגות מס רכישה דירה ראשונה
A9: הוצאות נלוות רכישה | E9: סה"כ עלות קניה + הוצאות | F9: =F2+F5+F6 -> 1086327.1 | G9: =F9/$F$2 -> 1.0863271 | I9: על חלק השווי שעד 1,978,745 ₪: 0% | J9: 0 | K9: 1978745 | L9: 0
E10: סה"כ הון עצמי נדרש | F10: =F4+F5+F6 -> 336327.1 | G10: =F10/$F$2 -> 0.3363271 | I10: על חלק השווי שבין 1,978,745 ₪ – 2,347,040 ₪ – 3.5% | J10: 0.035 | K10: 2347040 | L10: =(K10-K9)*J10 -> 12890.325
A11: עו"ד | B11: 8000 | E11: תשואה שנתית לפני מס | F11: =(F7-F8)/F9 -> 0 | G11: =F11/$F$2 -> 0 | I11: על חלק השווי שבין 2,347,040 ₪ – 6,055,070 ₪– 5% | J11: 0.05 | K11: 6055070 | L11: =(K11-K10)*J11 -> 185401.5
A12: תיווך | B12: 20000 | E12: מס על שכירות ללא קיזוז הוצאות | F12: =F7*B48 -> 0 | G12: =F12/$F$2 -> 0 | I12: על חלק השווי שבין 6,055,070 ₪ – 20,183,565 ₪ – 8% | J12: 0.08 | K12: 20183565 | L12: =(K12-K11)*J12 -> 1130279.6
A13: מס רכישה | B13: =IF(B4="כן",J14,IF(B3="כן",J14,J7)) -> 0 | E13: תשואה נטו | F13: =((F7-F8)-F12)/F9 -> 0 | I13: על חלק השווי שמעל 20,183,565 ₪ – 10% | J13: 0.1 | K13: -
A14: אגרות רישום בטאבו | B14: 126 | E14: סה"כ הכנסה שנתית נטו | F14: =F7-F8-F12 -> 0 | G14: =F14/$F$2 -> 0 | I14: מס לתשלום לדירה ראשונה | J14: {=_xlfn.IFS(B2>K12,SUM(L9:L12)+((B2-K12)*J13),B2>K11,SUM(L9:L11)+((B2-K11)*J12),B2>K10,SUM(L9:L10)+((B2-K10)*J11),B2>K9,SUM(L9:L9)+((B2-K9)*J10),B2<=K9,0)} -> 0
A15: שמאות מוקדמת (שמאי פרטי) | B15: 3000
A16: שמאות לאחר חתימת חוזה (מטעם הבנק) | B16: 0 | E16: סיכום העסקה במקרה של מכירה
A17: ייעוץ משכנתאות | B17: 8000 | E17: יתרת הקרן לתקופת העסקה | F17: =LOOKUP(B51,Sheet2!D:D,Sheet2!H:H) -> 630000 | G17: =F17/$F$2 -> 0.63 | J17: כל הזכויות שמורות ל-invest-il.co.il
A18: ליווי מקצועי בתהליך הרכישה | B18: 15000 | E18: ריבית ששולמה לתקופת העסקה | F18: =LOOKUP(B51,Sheet2!D:D,Sheet2!J:J) -> 160370 | G18: =F18/$F$2 -> 0.16037
A19: עמלת פתיחת תיק משכנתא | B19: 4000 | E19: מחיר מכירה | F19: =B50 -> 1300000 | G19: =F19/$F$2 -> 1.3
A20: נוספות רכישה | B20: 0 | E20: הוצאות נלוות מכירה | F20: =SUM(B53:B55) -> 24000 | G20: =F20/$F$2 -> 0.024
A21: הוצאות שיפוץ | E21: רווח לפני מס שבח | F21: =IF(B6=0,F19-F9-F20,F19-F9-F20-F18) -> 29302.9 | G21: =F21/$F$2 -> 0.0293029
E22: מס שבח | F22: =F21*B52 -> 0 | G22: =F22/$F$2 -> 0
A23: מטבח | B23: 1000 | E23: רווח אחרי מס | F23: =F21-F22 -> 29302.9 | G23: =F23/$F$2 -> 0.0293029
A24: ריצוף | B24: 2000 | E24: תשואה לעסקה | F24: =F23/F9 -> 0.026974288
A25: צבע פנימי | B25: 3000 | E25: רווח על ההון העצמי | F25: =F23/F10 -> 0.087126194
A26: צבע חיצוני | B26: 0 | C26: הוראות שימוש | E26: נושאים חשובים | F26: חוקים ותקנות מס
A27: מזגנים | B27: 0
A28: חשמל | B28: 1 | C28: יש למלא את התאים שבצבע צהוב בלבד, שאר התאים יתעדכנו אוטומטית בהתאם לפרטים שלכם לאחר המילוי. | E28: 1. הערכת חסר של שמאי | F28: בחלק הזה בצד שמאל יש את אחוז המיסוי ותקופת הפטור ממס שבח, יש לשנות בהתאם לחוק.
A29: אינסטלציה | B29: 0 | E29: 2. לגבי מס שבח בחוק
A30: חלונות ותריסים | B30: 0 | E30: 3. בכל מקום שיש סימן אדום יש הסבר. יש לעמוד עם העכבר על הסימן
A31: חדר רחצה ושירותים | B31: 0
A32: דלתות | B32: 0 | C32: מומלץ לפתוח במחשב לצורך עריכה נוחה
A33: ניקיון | B33: 0
A34: הובלה והרמה (חומרים, קרמיקה וכו) | B34: 0 | C34: רוצים לדעת איך ואיפה לקנות דירה להשקעה? לחצו כאן
A35: הריסה ופינוי פסולת | B35: 0
A36: עיצוב פנים | B36: 13000
A37: דוד מים וקולט שמש | B37: 2000
A38: ריהוט ומכשירי חשמל לפי הצורך | B38: 1000
A39: לא צפויות (10 אחוז מסך העלויות) | B39: =SUM(B23:B38)*0.1 -> 2200.1
A40: נלוות (פיקוח חיצוני) | B40: 4000
A41: ניהול ההשכרה
A42: הכנסה משכירות לחודש | B42: 0
A43: ביטוח לחודש | B43: 0
A44: דמי ניהול לחודש | B44: 0
A45: תחזוקה ותיקונים לחודש | B45: 0
A46: הוצאות נלוות לחודש | B46: 0
A47: עריכת חוזה שכירות אצל עו"ד | B47: 0
A48: אחוז מיסוי על שכירות | B48: 0
A49: פרטי מכירה
A50: מחיר מכירה | B50: 1300000
A51: תקופת אחזקת הנכס בחודשים | B51: 48
A52: מס שבח | B52: =IF(B51<J2,J3,IF(B4="כן",0,J3)) -> 0
A53: עו"ד מכירה | B53: 8000
A54: מתווך מכירה | B54: 15000
A55: נוספות מכירה | B55: 1000

Sheet Sheet2
A1: כן | D1: חודשים | E1: החזר | F1: ריבית שנתית | G1: תשלום | H1: קרן מעודכנת | I1: ריבית | J1: ריבית ששולמה
A2: לא | D2: 1 | E2: ='חישוב דירה invest-il'!B6/'חישוב דירה invest-il'!B8 -> 2500 | F2: ='חישוב דירה invest-il'!B6*'חישוב דירה invest-il'!B7/12 -> 3625 | G2: =F2+E2 -> 6125 | H2: ='חישוב דירה invest-il'!B6-E2 -> 747500 | I2: ='חישוב דירה invest-il'!B7 -> 0.058 | J2: =SUM(F2) -> 3625
D3: 2 | E3: =E2 -> 2500 | F3: =H2*$I$2/12 -> 3612.9167 | G3: =F3+E3 -> 6112.9167 | H3: =H2-E3 -> 745000 | J3: =SUM($F$2:F3) -> 7237.9167
D4: 3 | E4: =E3 -> 2500 | F4: =H3*$I$2/12 -> 3600.8333 | G4: =F4+E4 -> 6100.8333 | H4: =H3-E4 -> 742500 | J4: =SUM($F$2:F4) -> 10838.75
D5: 4 | E5: =E4 -> 2500 | F5: =H4*$I$2/12 -> 3588.75 | G5: =F5+E5 -> 6088.75 | H5: =H4-E5 -> 740000 | J5: =SUM($F$2:F5) -> 14427.5
D6: 5 | E6: =E5 -> 2500 | F6: =H5*$I$2/12 -> 3576.6667 | G6: =F6+E6 -> 6076.6667 | H6: =H5-E6 -> 737500 | J6: =SUM($F$2:F6) -> 18004.167
D7: 6 | E7: =E6 -> 2500 | F7: =H6*$I$2/12 -> 3564.5833 | G7: =F7+E7 -> 6064.5833 | H7: =H6-E7 -> 735000 | J7: =SUM($F$2:F7) -> 21568.75
D8: 7 | E8: =E7 -> 2500 | F8: =H7*$I$2/12 -> 3552.5 | G8: =F8+E8 -> 6052.5 | H8: =H7-E8 -> 732500 | J8: =SUM($F$2:F8) -> 25121.25
D9: 8 | E9: =E8 -> 2500 | F9: =H8*$I$2/12 -> 3540.4167 | G9: =F9+E9 -> 6040.4167 | H9: =H8-E9 -> 730000 | J9: =SUM($F$2:F9) -> 28661.667
D10: 9 | E10: =E9 -> 2500 | F10: =H9*$I$2/12 -> 3528.3333 | G10: =F10+E10 -> 6028.3333 | H10: =H9-E10 -> 727500 | J10: =SUM($F$2:F10) -> 32190
D11: 10 | E11: =E10 -> 2500 | F11: =H10*$I$2/12 -> 3516.25 | G11: =F11+E11 -> 6016.25 | H11: =H10-E11 -> 725000 | J11: =SUM($F$2:F11) -> 35706.25
D12: 11 | E12: =E11 -> 2500 | F12: =H11*$I$2/12 -> 3504.1667 | G12: =F12+E12 -> 6004.1667 | H12: =H11-E12 -> 722500 | J12: =SUM($F$2:F12) -> 39210.417
D13: 12 | E13: =E12 -> 2500 | F13: =H12*$I$2/12 -> 3492.0833 | G13: =F13+E13 -> 5992.0833 | H13: =H12-E13 -> 720000 | J13: =SUM($F$2:F13) -> 42702.5
D14: 13 | E14: =E13 -> 2500 | F14: =H13*$I$2/12 -> 3480 | G14: =F14+E14 -> 5980 | H14: =H13-E14 -> 717500 | J14: =SUM($F$2:F14) -> 46182.5
... D361: 360 | E361: =E360 -> 2500 | F361: =H360*$I$2/12 -> -712.91667 | G361: =F361+E361 -> 1787.0833 | H361: =H360-E361 -> -150000 | J361: =SUM($F$2:F361) -> 524175
